BEGIN:VCALENDAR
VERSION:2.0
PRODID:-//EKEA - ECPv6.15.11//NONSGML v1.0//EN
CALSCALE:GREGORIAN
METHOD:PUBLISH
X-WR-CALNAME:EKEA
X-ORIGINAL-URL:https://ekea.gov.gr
X-WR-CALDESC:Events for EKEA
REFRESH-INTERVAL;VALUE=DURATION:PT1H
X-Robots-Tag:noindex
X-PUBLISHED-TTL:PT1H
BEGIN:VTIMEZONE
TZID:Europe/Athens
BEGIN:DAYLIGHT
TZOFFSETFROM:+0200
TZOFFSETTO:+0300
TZNAME:EEST
DTSTART:20250330T010000
END:DAYLIGHT
BEGIN:STANDARD
TZOFFSETFROM:+0300
TZOFFSETTO:+0200
TZNAME:EET
DTSTART:20251026T010000
END:STANDARD
BEGIN:DAYLIGHT
TZOFFSETFROM:+0200
TZOFFSETTO:+0300
TZNAME:EEST
DTSTART:20260329T010000
END:DAYLIGHT
BEGIN:STANDARD
TZOFFSETFROM:+0300
TZOFFSETTO:+0200
TZNAME:EET
DTSTART:20261025T010000
END:STANDARD
BEGIN:DAYLIGHT
TZOFFSETFROM:+0200
TZOFFSETTO:+0300
TZNAME:EEST
DTSTART:20270328T010000
END:DAYLIGHT
BEGIN:STANDARD
TZOFFSETFROM:+0300
TZOFFSETTO:+0200
TZNAME:EET
DTSTART:20271031T010000
END:STANDARD
END:VTIMEZONE
BEGIN:VEVENT
DTSTART;TZID=Europe/Athens:20260425T090000
DTEND;TZID=Europe/Athens:20260425T133000
DTSTAMP:20260425T020326
CREATED:20260424T081934Z
LAST-MODIFIED:20260424T081934Z
UID:10012112-1777107600-1777123800@ekea.gov.gr
SUMMARY:Δ. ΑΜΥΝΤΑΙΟΥ
DESCRIPTION:ΑΘΛΗΤΙΚΟΣ ΜΟΡΦΩΤΙΚΟΣ ΣΥΛΛΟΓΟΣ ΑΓΙΟΥ\nΠΑΝΤΕΛΕΗΜΟΝΑ\n«ΜΑΚΕΔΟΝΙΚΟΣ» \nΓΝ ΦΛΩΡΙΝΑΣ
URL:https://ekea.gov.gr/event/%ce%b4-%ce%b1%ce%bc%cf%85%ce%bd%cf%84%ce%b1%ce%b9%ce%bf%cf%85-7/
END:VEVENT
BEGIN:VEVENT
DTSTART;TZID=Europe/Athens:20260425T100000
DTEND;TZID=Europe/Athens:20260425T130000
DTSTAMP:20260425T020326
CREATED:20260417T103130Z
LAST-MODIFIED:20260417T103130Z
UID:10012068-1777111200-1777122000@ekea.gov.gr
SUMMARY:Δ. ΠΑΤΡΕΩΝ
DESCRIPTION:Σ.Ε.Α & ΔΩΡΗΤΩΝ ΜΥΕΛΟΥ ΤΩΝ ΟΣΤΩΝ ΠΑΤΡΑΣ ( ΠΛ. ΓΕΩΡΓΙΟΥ ΠΑΤΡΩΝ) \n  \nΠΓΝ ΠΑΤΡΩΝ
URL:https://ekea.gov.gr/event/%ce%b4-%cf%80%ce%b1%cf%84%cf%81%ce%b5%cf%89%ce%bd-52/
END:VEVENT
BEGIN:VEVENT
DTSTART;TZID=Europe/Athens:20260425T170000
DTEND;TZID=Europe/Athens:20260425T200000
DTSTAMP:20260425T020326
CREATED:20260423T095654Z
LAST-MODIFIED:20260423T095723Z
UID:10012100-1777136400-1777147200@ekea.gov.gr
SUMMARY:Δ. ΒΟΡΕΙΑΣ ΚΕΡΚΥΡΑΣ
DESCRIPTION:ΠΟΛΙΤΙΣΤΙΚΗ ΠΡΩΤΟΒΟΥΛΙΑ\nΑΡΙΛΛΑ
URL:https://ekea.gov.gr/event/%ce%b4-%ce%b2%ce%bf%cf%81%ce%b5%ce%b9%ce%b1%cf%82-%ce%ba%ce%b5%cf%81%ce%ba%cf%85%cf%81%ce%b1%cf%82-11/
END:VEVENT
END:VCALENDAR