BEGIN:VCALENDAR
VERSION:2.0
PRODID:-//EKEA - ECPv6.15.11//NONSGML v1.0//EN
CALSCALE:GREGORIAN
METHOD:PUBLISH
X-WR-CALNAME:EKEA
X-ORIGINAL-URL:https://ekea.gov.gr
X-WR-CALDESC:Events for EKEA
REFRESH-INTERVAL;VALUE=DURATION:PT1H
X-Robots-Tag:noindex
X-PUBLISHED-TTL:PT1H
BEGIN:VTIMEZONE
TZID:Europe/Athens
BEGIN:DAYLIGHT
TZOFFSETFROM:+0200
TZOFFSETTO:+0300
TZNAME:EEST
DTSTART:20250330T010000
END:DAYLIGHT
BEGIN:STANDARD
TZOFFSETFROM:+0300
TZOFFSETTO:+0200
TZNAME:EET
DTSTART:20251026T010000
END:STANDARD
BEGIN:DAYLIGHT
TZOFFSETFROM:+0200
TZOFFSETTO:+0300
TZNAME:EEST
DTSTART:20260329T010000
END:DAYLIGHT
BEGIN:STANDARD
TZOFFSETFROM:+0300
TZOFFSETTO:+0200
TZNAME:EET
DTSTART:20261025T010000
END:STANDARD
BEGIN:DAYLIGHT
TZOFFSETFROM:+0200
TZOFFSETTO:+0300
TZNAME:EEST
DTSTART:20270328T010000
END:DAYLIGHT
BEGIN:STANDARD
TZOFFSETFROM:+0300
TZOFFSETTO:+0200
TZNAME:EET
DTSTART:20271031T010000
END:STANDARD
END:VTIMEZONE
BEGIN:VEVENT
DTSTART;TZID=Europe/Athens:20260423T100000
DTEND;TZID=Europe/Athens:20260423T130000
DTSTAMP:20260423T023852
CREATED:20260417T102947Z
LAST-MODIFIED:20260417T102947Z
UID:10012067-1776938400-1776949200@ekea.gov.gr
SUMMARY:Δ. ΠΑΤΡΕΩΝ
DESCRIPTION:ΦΟΙΤΗΤΙΚΗ ΟΜΑΔΑ ΕΘΕΛ. ΑΙΜΟΔΟΣΙΑΣ ΠΑΝΕΠΙΣΤΗΜΙΟΥ ΠΑΤΡΩΝ “ΦΛΕΒΑ ΖΩΗΣ” (ΘΕΑΤΡΟ ΦΟΙΤ. ΕΣΤΙΑΣ) \n  \nΠΓΝ ΠΑΤΡΩΝ
URL:https://ekea.gov.gr/event/%ce%b4-%cf%80%ce%b1%cf%84%cf%81%ce%b5%cf%89%ce%bd-51/
END:VEVENT
END:VCALENDAR