BEGIN:VCALENDAR
VERSION:2.0
PRODID:-//EKEA - ECPv6.15.11//NONSGML v1.0//EN
CALSCALE:GREGORIAN
METHOD:PUBLISH
X-WR-CALNAME:EKEA
X-ORIGINAL-URL:https://ekea.gov.gr
X-WR-CALDESC:Events for EKEA
REFRESH-INTERVAL;VALUE=DURATION:PT1H
X-Robots-Tag:noindex
X-PUBLISHED-TTL:PT1H
BEGIN:VTIMEZONE
TZID:Europe/Athens
BEGIN:DAYLIGHT
TZOFFSETFROM:+0200
TZOFFSETTO:+0300
TZNAME:EEST
DTSTART:20250330T010000
END:DAYLIGHT
BEGIN:STANDARD
TZOFFSETFROM:+0300
TZOFFSETTO:+0200
TZNAME:EET
DTSTART:20251026T010000
END:STANDARD
BEGIN:DAYLIGHT
TZOFFSETFROM:+0200
TZOFFSETTO:+0300
TZNAME:EEST
DTSTART:20260329T010000
END:DAYLIGHT
BEGIN:STANDARD
TZOFFSETFROM:+0300
TZOFFSETTO:+0200
TZNAME:EET
DTSTART:20261025T010000
END:STANDARD
BEGIN:DAYLIGHT
TZOFFSETFROM:+0200
TZOFFSETTO:+0300
TZNAME:EEST
DTSTART:20270328T010000
END:DAYLIGHT
BEGIN:STANDARD
TZOFFSETFROM:+0300
TZOFFSETTO:+0200
TZNAME:EET
DTSTART:20271031T010000
END:STANDARD
END:VTIMEZONE
BEGIN:VEVENT
DTSTART;VALUE=DATE:20260422
DTEND;VALUE=DATE:20260423
DTSTAMP:20260422T012503
CREATED:20260417T102718Z
LAST-MODIFIED:20260417T102718Z
UID:10012066-1776816000-1776902399@ekea.gov.gr
SUMMARY:Δ. ΚΟΡΙΝΘΙΩΝ
DESCRIPTION:ΕΠΑΛ ΕΣΠΕΡΙΝΟ \nΓ.Ν. ΚΟΡΙΝΘΟΥ
URL:https://ekea.gov.gr/event/%ce%b4-%ce%ba%ce%bf%cf%81%ce%b9%ce%bd%ce%b8%ce%b9%cf%89%ce%bd-62/
END:VEVENT
BEGIN:VEVENT
DTSTART;TZID=Europe/Athens:20260422T080000
DTEND;TZID=Europe/Athens:20260422T140000
DTSTAMP:20260422T012503
CREATED:20260417T090816Z
LAST-MODIFIED:20260417T090816Z
UID:10012056-1776844800-1776866400@ekea.gov.gr
SUMMARY:Δ. ΝΕΑΣ ΣΜΥΡΝΗΣ
DESCRIPTION:ΛΕΟΝΤΕΙΟΣ ΣΧΟΛΗ ΝΕΑΣ ΣΜΥΡΝΗΣ \nΓΝΑ ΕΥΑΓΓΕΛΙΣΜΟΣ
URL:https://ekea.gov.gr/event/%ce%b4-%ce%bd%ce%b5%ce%b1%cf%82-%cf%83%ce%bc%cf%85%cf%81%ce%bd%ce%b7%cf%82-7/
END:VEVENT
BEGIN:VEVENT
DTSTART;TZID=Europe/Athens:20260422T090000
DTEND;TZID=Europe/Athens:20260422T140000
DTSTAMP:20260422T012503
CREATED:20260319T094923Z
LAST-MODIFIED:20260319T094923Z
UID:10012033-1776848400-1776866400@ekea.gov.gr
SUMMARY:Δ.ΚΕΡΑΤΣΙΝΙΟΥ-ΔΡΑΠΕΤΣΩΝΑΣ
DESCRIPTION:ΕΝΩΣΗ ΛΙΜΕΝΕΡΓΑΤΩΝ \nΑΝΔΡΟΥΤΣΟΥ 1 & ΚΑΝΑΡΗ\, ΔΡΑΠΕΤΣΩΝΑ \nΥΠΕΥΘΥΝΟΣ:ΚΑΛΟΡΙΤΗΣ ΕΥΣΤΡΑΤΙΟΣ ΤΗΛ:6948592813 \nΓΝΠ ΝΙΚΑΙΑΣ \n  \n 
URL:https://ekea.gov.gr/event/%ce%b4-%ce%ba%ce%b5%cf%81%ce%b1%cf%84%cf%83%ce%b9%ce%bd%ce%b9%ce%bf%cf%85-%ce%b4%cf%81%ce%b1%cf%80%ce%b5%cf%84%cf%83%cf%89%ce%bd%ce%b1%cf%82-3/
END:VEVENT
BEGIN:VEVENT
DTSTART;TZID=Europe/Athens:20260422T153000
DTEND;TZID=Europe/Athens:20260422T193000
DTSTAMP:20260422T012503
CREATED:20260417T090524Z
LAST-MODIFIED:20260417T090524Z
UID:10012054-1776871800-1776886200@ekea.gov.gr
SUMMARY:Δ. ΚΟΖΑΝΗΣ
DESCRIPTION:ΓΡΑΦΕΙΟ ΓΕΦΥΡΑΣ ΖΩΗΣ \nΜΑΜΑΤΣΕΙΟ ΝΟΣΟΚΟΜΕΙΟ ΚΟΖΑΝΗΣ
URL:https://ekea.gov.gr/event/%ce%b4-%ce%ba%ce%bf%ce%b6%ce%b1%ce%bd%ce%b7%cf%82-2/
END:VEVENT
END:VCALENDAR