BEGIN:VCALENDAR
VERSION:2.0
PRODID:-//EKEA - ECPv6.15.11//NONSGML v1.0//EN
CALSCALE:GREGORIAN
METHOD:PUBLISH
X-WR-CALNAME:EKEA
X-ORIGINAL-URL:https://ekea.gov.gr
X-WR-CALDESC:Events for EKEA
REFRESH-INTERVAL;VALUE=DURATION:PT1H
X-Robots-Tag:noindex
X-PUBLISHED-TTL:PT1H
BEGIN:VTIMEZONE
TZID:Europe/Athens
BEGIN:DAYLIGHT
TZOFFSETFROM:+0200
TZOFFSETTO:+0300
TZNAME:EEST
DTSTART:20250330T010000
END:DAYLIGHT
BEGIN:STANDARD
TZOFFSETFROM:+0300
TZOFFSETTO:+0200
TZNAME:EET
DTSTART:20251026T010000
END:STANDARD
BEGIN:DAYLIGHT
TZOFFSETFROM:+0200
TZOFFSETTO:+0300
TZNAME:EEST
DTSTART:20260329T010000
END:DAYLIGHT
BEGIN:STANDARD
TZOFFSETFROM:+0300
TZOFFSETTO:+0200
TZNAME:EET
DTSTART:20261025T010000
END:STANDARD
BEGIN:DAYLIGHT
TZOFFSETFROM:+0200
TZOFFSETTO:+0300
TZNAME:EEST
DTSTART:20270328T010000
END:DAYLIGHT
BEGIN:STANDARD
TZOFFSETFROM:+0300
TZOFFSETTO:+0200
TZNAME:EET
DTSTART:20271031T010000
END:STANDARD
END:VTIMEZONE
BEGIN:VEVENT
DTSTART;VALUE=DATE:20260421
DTEND;VALUE=DATE:20260422
DTSTAMP:20260421T121449
CREATED:20260417T090401Z
LAST-MODIFIED:20260417T090402Z
UID:10012053-1776729600-1776815999@ekea.gov.gr
SUMMARY:Δ. ΚΑΣΤΟΡΙΑΣ
DESCRIPTION:ΚΑΠΗ ΚΑΣΤΟΡΙΑΣ \nΓ.Ν. ΚΑΣΤΟΡΙΑΣ
URL:https://ekea.gov.gr/event/%ce%b4-%ce%ba%ce%b1%cf%83%cf%84%ce%bf%cf%81%ce%b9%ce%b1%cf%82/
END:VEVENT
BEGIN:VEVENT
DTSTART;VALUE=DATE:20260421
DTEND;VALUE=DATE:20260422
DTSTAMP:20260421T121449
CREATED:20260417T102538Z
LAST-MODIFIED:20260417T102538Z
UID:10012065-1776729600-1776815999@ekea.gov.gr
SUMMARY:Δ. ΚΟΡΙΝΘΙΩΝ
DESCRIPTION:ΦΟΙΤΗΤΕΣ ΤΜΗΜΑΤΟΣ ΠΟΛ. ΕΠΙΣΤΗΜΩΝ Κ ΔΙΕΘΝΩΝ ΣΧΕΣΕΩΝ ΠΑΝΕΠΙΣΤΗΜΙΟΥ ΠΕΛΟΠΟΝΝΗΣΟΥ \nΓ.Ν. ΚΟΡΙΝΘΟΥ
URL:https://ekea.gov.gr/event/%ce%b4-%ce%ba%ce%bf%cf%81%ce%b9%ce%bd%ce%b8%ce%b9%cf%89%ce%bd-61/
END:VEVENT
BEGIN:VEVENT
DTSTART;TZID=Europe/Athens:20260421T143000
DTEND;TZID=Europe/Athens:20260421T193000
DTSTAMP:20260421T121449
CREATED:20260319T094715Z
LAST-MODIFIED:20260319T094715Z
UID:10012032-1776781800-1776799800@ekea.gov.gr
SUMMARY:Δ.ΑΙΓΑΛΕΩ
DESCRIPTION:ΟΑΕΔ ΕΠΑ.Σ ΑΙΓΑΛΕΩ \nΠΛΑΠΟΥΤΑ 11\, ΑΙΓΑΛΕΩ \nΥΠΕΥΘΥΝΟΣ:ΚΑΚΟΥΛΟΣ ΤΗΛ:6937394741 \nΓΝΠ ΝΙΚΑΙΑΣ
URL:https://ekea.gov.gr/event/%ce%b4-%ce%b1%ce%b9%ce%b3%ce%b1%ce%bb%ce%b5%cf%89-14/
END:VEVENT
END:VCALENDAR